BEGIN:VCALENDAR
VERSION:2.0
PRODID:-//Julius-Wegeler-Schule - ECPv6.15.20//NONSGML v1.0//EN
CALSCALE:GREGORIAN
METHOD:PUBLISH
X-ORIGINAL-URL:https://www.julius-wegeler-schule.de
X-WR-CALDESC:Veranstaltungen für Julius-Wegeler-Schule
REFRESH-INTERVAL;VALUE=DURATION:PT1H
X-Robots-Tag:noindex
X-PUBLISHED-TTL:PT1H
BEGIN:VTIMEZONE
TZID:Europe/Berlin
BEGIN:DAYLIGHT
TZOFFSETFROM:+0100
TZOFFSETTO:+0200
TZNAME:CEST
DTSTART:20240331T010000
END:DAYLIGHT
BEGIN:STANDARD
TZOFFSETFROM:+0200
TZOFFSETTO:+0100
TZNAME:CET
DTSTART:20241027T010000
END:STANDARD
BEGIN:DAYLIGHT
TZOFFSETFROM:+0100
TZOFFSETTO:+0200
TZNAME:CEST
DTSTART:20250330T010000
END:DAYLIGHT
BEGIN:STANDARD
TZOFFSETFROM:+0200
TZOFFSETTO:+0100
TZNAME:CET
DTSTART:20251026T010000
END:STANDARD
BEGIN:DAYLIGHT
TZOFFSETFROM:+0100
TZOFFSETTO:+0200
TZNAME:CEST
DTSTART:20260329T010000
END:DAYLIGHT
BEGIN:STANDARD
TZOFFSETFROM:+0200
TZOFFSETTO:+0100
TZNAME:CET
DTSTART:20261025T010000
END:STANDARD
END:VTIMEZONE
BEGIN:VEVENT
DTSTART;VALUE=DATE:20251117
DTEND;VALUE=DATE:20251206
DTSTAMP:20260425T014800
CREATED:20260306T205512Z
LAST-MODIFIED:20260306T205512Z
UID:4650-1763337600-1764979199@www.julius-wegeler-schule.de
SUMMARY:BVJ-Praktikum 1. Halbjahr 2025-26
DESCRIPTION:Die Schülerinnen und Schüler im Berufsvorbereitungsjahr absolvieren insgesamt 6 Wochen lang ein Betriebspraktikum\, um verschiedene Berufe und den Arbeitsalltag kennenzulernen. Außerdem können sie ihre Talente zeigen und so die Chance auf eine Ausbildung erhöhen.
URL:https://www.julius-wegeler-schule.de/event/bvj-praktikum-1-halbjahr-2025-26/
CATEGORIES:Beatusstraße,Berufsorientierung,Berufsvorbereitungsjahr
END:VEVENT
BEGIN:VEVENT
DTSTART;VALUE=DATE:20251125
DTEND;VALUE=DATE:20251127
DTSTAMP:20260425T014800
CREATED:20251021T062614Z
LAST-MODIFIED:20251113T101039Z
UID:3147-1764028800-1764201599@www.julius-wegeler-schule.de
SUMMARY:Schriftliche Abschlussprüfung (Winter) IHK-Berufe 2025/26
DESCRIPTION:Wir wünschen allen Prüflingen ganz viel Erfolg!
URL:https://www.julius-wegeler-schule.de/event/schriftliche-abschlusspruefung-winter-ihk-berufe/
CATEGORIES:Beatusstraße,Berufsschule,Finkenherd,Prüfungen
END:VEVENT
BEGIN:VEVENT
DTSTART;TZID=Europe/Berlin:20251125T111500
DTEND;TZID=Europe/Berlin:20251125T133000
DTSTAMP:20260425T014800
CREATED:20251112T131441Z
LAST-MODIFIED:20251113T094959Z
UID:3974-1764069300-1764077400@www.julius-wegeler-schule.de
SUMMARY:JWS ist bunt 2025/26
DESCRIPTION:Wir setzen mit vielfältigen Angeboten der kreativen bunten Pausen ein Zeichen für Vielfalt. Dieses Jahr wurde für zweite Pause und große Pause der „Orange Day“ am 25.11.2025 ausgewählt\, dies ist der internationale Tag zur Beseitigung von Gewalt an Frauen.
URL:https://www.julius-wegeler-schule.de/event/jws-ist-bunt-2025-26/
CATEGORIES:Beatusstraße,feelgood@school,Finkenherd
END:VEVENT
BEGIN:VEVENT
DTSTART;TZID=Europe/Berlin:20251125T133000
DTEND;TZID=Europe/Berlin:20251125T164500
DTSTAMP:20260425T014800
CREATED:20251021T055014Z
LAST-MODIFIED:20251113T094812Z
UID:3129-1764077400-1764089100@www.julius-wegeler-schule.de
SUMMARY:Zweiter offizieller Teamtag im SJ 2025/26
DESCRIPTION:An Teamtagen treffen sich die Lehrpersonen in unterschiedlichen Teams (Fach-Teams\, Bildungsgang-Teams …)\, um den Unterricht und weitere Aktivitäten zu planen. Der Unterricht für teilnehmende Lehrpersonen endet um 13:00 Uhr.
URL:https://www.julius-wegeler-schule.de/event/zweiter-offizieller-teamtag-im-sj-2025-26/
CATEGORIES:Beatusstraße,Finkenherd,Konferenzen
END:VEVENT
END:VCALENDAR