BEGIN:VCALENDAR
VERSION:2.0
PRODID:-//Julius-Wegeler-Schule - ECPv6.15.20//NONSGML v1.0//EN
CALSCALE:GREGORIAN
METHOD:PUBLISH
X-ORIGINAL-URL:https://www.julius-wegeler-schule.de
X-WR-CALDESC:Veranstaltungen für Julius-Wegeler-Schule
REFRESH-INTERVAL;VALUE=DURATION:PT1H
X-Robots-Tag:noindex
X-PUBLISHED-TTL:PT1H
BEGIN:VTIMEZONE
TZID:Europe/Berlin
BEGIN:DAYLIGHT
TZOFFSETFROM:+0100
TZOFFSETTO:+0200
TZNAME:CEST
DTSTART:20250330T010000
END:DAYLIGHT
BEGIN:STANDARD
TZOFFSETFROM:+0200
TZOFFSETTO:+0100
TZNAME:CET
DTSTART:20251026T010000
END:STANDARD
BEGIN:DAYLIGHT
TZOFFSETFROM:+0100
TZOFFSETTO:+0200
TZNAME:CEST
DTSTART:20260329T010000
END:DAYLIGHT
BEGIN:STANDARD
TZOFFSETFROM:+0200
TZOFFSETTO:+0100
TZNAME:CET
DTSTART:20261025T010000
END:STANDARD
BEGIN:DAYLIGHT
TZOFFSETFROM:+0100
TZOFFSETTO:+0200
TZNAME:CEST
DTSTART:20270328T010000
END:DAYLIGHT
BEGIN:STANDARD
TZOFFSETFROM:+0200
TZOFFSETTO:+0100
TZNAME:CET
DTSTART:20271031T010000
END:STANDARD
END:VTIMEZONE
BEGIN:VEVENT
DTSTART;VALUE=DATE:20260108
DTEND;VALUE=DATE:20260110
DTSTAMP:20260424T222553
CREATED:20251113T103638Z
LAST-MODIFIED:20251113T195232Z
UID:4068-1767830400-1768003199@www.julius-wegeler-schule.de
SUMMARY:Praktische Nachprüfungen Altenpflegehilfe\, BF Pflege SJ 2025/26
DESCRIPTION:Praktische Nachprüfungen in der Fachschule Altenpflegehilfe und der Berufsfachschule Pflege in den entsprechenden Pflegeeinrichtungen. Wir wünschen allen Prüflingen ganz viel Erfolg!
URL:https://www.julius-wegeler-schule.de/event/praktische-nachpruefungen-altenpflegehilfe-bf-pflege-sj-2025-26/
CATEGORIES:Berufsfachschule Pflege,Fachschulen,Finkenherd
END:VEVENT
END:VCALENDAR