BEGIN:VCALENDAR
VERSION:2.0
PRODID:-//Julius-Wegeler-Schule - ECPv6.15.20//NONSGML v1.0//EN
CALSCALE:GREGORIAN
METHOD:PUBLISH
X-WR-CALNAME:Julius-Wegeler-Schule
X-ORIGINAL-URL:https://www.julius-wegeler-schule.de
X-WR-CALDESC:Veranstaltungen für Julius-Wegeler-Schule
REFRESH-INTERVAL;VALUE=DURATION:PT1H
X-Robots-Tag:noindex
X-PUBLISHED-TTL:PT1H
BEGIN:VTIMEZONE
TZID:Europe/Berlin
BEGIN:DAYLIGHT
TZOFFSETFROM:+0100
TZOFFSETTO:+0200
TZNAME:CEST
DTSTART:20250330T010000
END:DAYLIGHT
BEGIN:STANDARD
TZOFFSETFROM:+0200
TZOFFSETTO:+0100
TZNAME:CET
DTSTART:20251026T010000
END:STANDARD
BEGIN:DAYLIGHT
TZOFFSETFROM:+0100
TZOFFSETTO:+0200
TZNAME:CEST
DTSTART:20260329T010000
END:DAYLIGHT
BEGIN:STANDARD
TZOFFSETFROM:+0200
TZOFFSETTO:+0100
TZNAME:CET
DTSTART:20261025T010000
END:STANDARD
BEGIN:DAYLIGHT
TZOFFSETFROM:+0100
TZOFFSETTO:+0200
TZNAME:CEST
DTSTART:20270328T010000
END:DAYLIGHT
BEGIN:STANDARD
TZOFFSETFROM:+0200
TZOFFSETTO:+0100
TZNAME:CET
DTSTART:20271031T010000
END:STANDARD
END:VTIMEZONE
BEGIN:VEVENT
DTSTART;TZID=Europe/Berlin:20260112T170000
DTEND;TZID=Europe/Berlin:20260112T180000
DTSTAMP:20260424T222524
CREATED:20251021T070111Z
LAST-MODIFIED:20260111T174917Z
UID:3168-1768237200-1768240800@www.julius-wegeler-schule.de
SUMMARY:verschoben: Infoabend der Höheren Berufsfachschulen 2025/26
DESCRIPTION:Der Infoabend verschiebt sich um eine Woche aufgrund der gefährlichen Wetterlage. \nBeim Infoabend der Höheren Berufsfachschulen für Ernährung und Versorgung und Sozialassistenz können sich alle Interessierten über die Bildungsgänge informieren und vor Ort auf alle Fragen eine Antwort erhalten. Unsere Lehrpersonen beraten euch gern! Kommt vorbei! \nDie Veranstaltung findet an beiden Standorten statt:\nHBFEV: BS Alte Mensa\nHBFS: FH B 2 03
URL:https://www.julius-wegeler-schule.de/event/infoabend-der-hoeheren-berufsfachschulen-2025-26/
CATEGORIES:Beatusstraße,Finkenherd,Höhere Berufsfachschule,Infoabend
END:VEVENT
END:VCALENDAR