BEGIN:VCALENDAR
VERSION:2.0
PRODID:-//Julius-Wegeler-Schule - ECPv6.15.20//NONSGML v1.0//EN
CALSCALE:GREGORIAN
METHOD:PUBLISH
X-ORIGINAL-URL:https://www.julius-wegeler-schule.de
X-WR-CALDESC:Veranstaltungen für Julius-Wegeler-Schule
REFRESH-INTERVAL;VALUE=DURATION:PT1H
X-Robots-Tag:noindex
X-PUBLISHED-TTL:PT1H
BEGIN:VTIMEZONE
TZID:Europe/Berlin
BEGIN:DAYLIGHT
TZOFFSETFROM:+0100
TZOFFSETTO:+0200
TZNAME:CEST
DTSTART:20250330T010000
END:DAYLIGHT
BEGIN:STANDARD
TZOFFSETFROM:+0200
TZOFFSETTO:+0100
TZNAME:CET
DTSTART:20251026T010000
END:STANDARD
BEGIN:DAYLIGHT
TZOFFSETFROM:+0100
TZOFFSETTO:+0200
TZNAME:CEST
DTSTART:20260329T010000
END:DAYLIGHT
BEGIN:STANDARD
TZOFFSETFROM:+0200
TZOFFSETTO:+0100
TZNAME:CET
DTSTART:20261025T010000
END:STANDARD
BEGIN:DAYLIGHT
TZOFFSETFROM:+0100
TZOFFSETTO:+0200
TZNAME:CEST
DTSTART:20270328T010000
END:DAYLIGHT
BEGIN:STANDARD
TZOFFSETFROM:+0200
TZOFFSETTO:+0100
TZNAME:CET
DTSTART:20271031T010000
END:STANDARD
END:VTIMEZONE
BEGIN:VEVENT
DTSTART;TZID=Europe/Berlin:20260202T133000
DTEND;TZID=Europe/Berlin:20260202T164500
DTSTAMP:20260424T163022
CREATED:20251021T055118Z
LAST-MODIFIED:20251113T094823Z
UID:3131-1770039000-1770050700@www.julius-wegeler-schule.de
SUMMARY:Dritter offizieller Teamtag im SJ 2025/26
DESCRIPTION:An Teamtagen treffen sich die Lehrpersonen in unterschiedlichen Teams (Fach-Teams\, Bildungsgang-Teams …)\, um den Unterricht und weitere Aktivitäten zu planen. Der Unterricht für teilnehmende Lehrpersonen endet um 13:00 Uhr.
URL:https://www.julius-wegeler-schule.de/event/dritter-offizieller-teamtag-im-sj-2025-26/
CATEGORIES:Beatusstraße,Finkenherd,Konferenzen
END:VEVENT
END:VCALENDAR