BEGIN:VCALENDAR
VERSION:2.0
PRODID:-//Julius-Wegeler-Schule - ECPv6.15.20//NONSGML v1.0//EN
CALSCALE:GREGORIAN
METHOD:PUBLISH
X-WR-CALNAME:Julius-Wegeler-Schule
X-ORIGINAL-URL:https://www.julius-wegeler-schule.de
X-WR-CALDESC:Veranstaltungen für Julius-Wegeler-Schule
REFRESH-INTERVAL;VALUE=DURATION:PT1H
X-Robots-Tag:noindex
X-PUBLISHED-TTL:PT1H
BEGIN:VTIMEZONE
TZID:Europe/Berlin
BEGIN:DAYLIGHT
TZOFFSETFROM:+0100
TZOFFSETTO:+0200
TZNAME:CEST
DTSTART:20250330T010000
END:DAYLIGHT
BEGIN:STANDARD
TZOFFSETFROM:+0200
TZOFFSETTO:+0100
TZNAME:CET
DTSTART:20251026T010000
END:STANDARD
BEGIN:DAYLIGHT
TZOFFSETFROM:+0100
TZOFFSETTO:+0200
TZNAME:CEST
DTSTART:20260329T010000
END:DAYLIGHT
BEGIN:STANDARD
TZOFFSETFROM:+0200
TZOFFSETTO:+0100
TZNAME:CET
DTSTART:20261025T010000
END:STANDARD
BEGIN:DAYLIGHT
TZOFFSETFROM:+0100
TZOFFSETTO:+0200
TZNAME:CEST
DTSTART:20270328T010000
END:DAYLIGHT
BEGIN:STANDARD
TZOFFSETFROM:+0200
TZOFFSETTO:+0100
TZNAME:CET
DTSTART:20271031T010000
END:STANDARD
END:VTIMEZONE
BEGIN:VEVENT
DTSTART;TZID=Europe/Berlin:20260210T140000
DTEND;TZID=Europe/Berlin:20260210T170000
DTSTAMP:20260422T044655
CREATED:20251021T075835Z
LAST-MODIFIED:20260202T141105Z
UID:3189-1770732000-1770742800@www.julius-wegeler-schule.de
SUMMARY:Schnuppernachmittag BGY Umwelttechnik 2025/26
DESCRIPTION:An unseren Schnuppernachmittagen können interessierte den Unterricht im gewünschten Bildungsgang/Schwerpunkt erleben\, um eine bessere Entscheidung treffen zu können. \nAnmeldungen über Jens.Brandenburg@julius-wegeler-schule.de
URL:https://www.julius-wegeler-schule.de/event/schnuppernachmittag-bgy-umwelttechnik-2025-26/
LOCATION:Finkenherd
CATEGORIES:Berufliches Gymnasium,Finkenherd
END:VEVENT
END:VCALENDAR