BEGIN:VCALENDAR
VERSION:2.0
PRODID:-//Julius-Wegeler-Schule - ECPv6.15.20//NONSGML v1.0//EN
CALSCALE:GREGORIAN
METHOD:PUBLISH
X-WR-CALNAME:Julius-Wegeler-Schule
X-ORIGINAL-URL:https://www.julius-wegeler-schule.de
X-WR-CALDESC:Veranstaltungen für Julius-Wegeler-Schule
REFRESH-INTERVAL;VALUE=DURATION:PT1H
X-Robots-Tag:noindex
X-PUBLISHED-TTL:PT1H
BEGIN:VTIMEZONE
TZID:Europe/Berlin
BEGIN:DAYLIGHT
TZOFFSETFROM:+0100
TZOFFSETTO:+0200
TZNAME:CEST
DTSTART:20250330T010000
END:DAYLIGHT
BEGIN:STANDARD
TZOFFSETFROM:+0200
TZOFFSETTO:+0100
TZNAME:CET
DTSTART:20251026T010000
END:STANDARD
BEGIN:DAYLIGHT
TZOFFSETFROM:+0100
TZOFFSETTO:+0200
TZNAME:CEST
DTSTART:20260329T010000
END:DAYLIGHT
BEGIN:STANDARD
TZOFFSETFROM:+0200
TZOFFSETTO:+0100
TZNAME:CET
DTSTART:20261025T010000
END:STANDARD
BEGIN:DAYLIGHT
TZOFFSETFROM:+0100
TZOFFSETTO:+0200
TZNAME:CEST
DTSTART:20270328T010000
END:DAYLIGHT
BEGIN:STANDARD
TZOFFSETFROM:+0200
TZOFFSETTO:+0100
TZNAME:CET
DTSTART:20271031T010000
END:STANDARD
END:VTIMEZONE
BEGIN:VEVENT
DTSTART;VALUE=DATE:20260424
DTEND;VALUE=DATE:20260425
DTSTAMP:20260424T115911
CREATED:20260306T160234Z
LAST-MODIFIED:20260312T121422Z
UID:4634-1776988800-1777075199@www.julius-wegeler-schule.de
SUMMARY:BGY-Drogenpräventionsveranstaltung 24.04.2026
DESCRIPTION:In Zusammenarbeit mit unserer Schulsozialarbeit konnten wir die Polizei Koblenz für eine Drogenpräventionsveranstaltung in den Klassen BGY25 gewinnen. Die Veranstaltungen finden jeweils freitags im Hochgestühl statt und dauern 3 Schulstunden. Die Fachlehrerinnen und -lehrer begleiten die Klassen.  \nHeute findet die Veranstaltung für die Klassen BGY GS25 a&b (3. – 5. Stunde) und BGY GS25 c&d (6. – 8. Stunde) statt.
URL:https://www.julius-wegeler-schule.de/event/bgy-drogenpraeventionsveranstaltung-24-04-2026/
CATEGORIES:Berufliches Gymnasium,Finkenherd
END:VEVENT
BEGIN:VEVENT
DTSTART;VALUE=DATE:20260424
DTEND;VALUE=DATE:20260425
DTSTAMP:20260424T115911
CREATED:20251021T115205Z
LAST-MODIFIED:20251021T115205Z
UID:3234-1776988800-1777075199@www.julius-wegeler-schule.de
SUMMARY:Schriftliche Abiturprüfung 2025/26: CH\, PSY
DESCRIPTION:Wir wünschen allen Prüflingen ganz viel Erfolg!
URL:https://www.julius-wegeler-schule.de/event/schriftliche-abiturpruefung-2025-26-ch-psy/
CATEGORIES:Berufliches Gymnasium,Finkenherd,Prüfungen
END:VEVENT
BEGIN:VEVENT
DTSTART;TZID=Europe/Berlin:20260424T090000
DTEND;TZID=Europe/Berlin:20260424T140000
DTSTAMP:20260424T115911
CREATED:20260408T102147Z
LAST-MODIFIED:20260408T102241Z
UID:4856-1777021200-1777039200@www.julius-wegeler-schule.de
SUMMARY:azubi- & studientage Bildungs- und Karrieremesse 24.04.2026
DESCRIPTION:Die azubi- & studientage Koblenz bietet den Schülern:innen\, deren Lehrer:innen und Eltern eine Informations-Plattform\, um im persönlichen Gespräch Ausbildungs- und Bildungsangebote sowie Entwicklungsperspektiven von verschiedensten Unternehmen\, privaten und staatlichen Berufs- und Hochschulen\, Kammern\, Behörden und Institutionen kennenzulernen und sich ein Bild über die potenziellen zukünftigen Arbeitgeber zu machen!
URL:https://www.julius-wegeler-schule.de/event/azubi-studientage-bildungs-und-karrieremesse-24-04-2026/
LOCATION:EPG-Arena\, Jupp-Gauchel-Straße 10\, Koblenz\, Rheinland-Pfalz\, 56075
CATEGORIES:Berufsorientierung,Externe Veranstaltungen
END:VEVENT
END:VCALENDAR