BEGIN:VCALENDAR
VERSION:2.0
PRODID:-//Julius-Wegeler-Schule - ECPv6.15.20//NONSGML v1.0//EN
CALSCALE:GREGORIAN
METHOD:PUBLISH
X-ORIGINAL-URL:https://www.julius-wegeler-schule.de
X-WR-CALDESC:Veranstaltungen für Julius-Wegeler-Schule
REFRESH-INTERVAL;VALUE=DURATION:PT1H
X-Robots-Tag:noindex
X-PUBLISHED-TTL:PT1H
BEGIN:VTIMEZONE
TZID:Europe/Berlin
BEGIN:DAYLIGHT
TZOFFSETFROM:+0100
TZOFFSETTO:+0200
TZNAME:CEST
DTSTART:20250330T010000
END:DAYLIGHT
BEGIN:STANDARD
TZOFFSETFROM:+0200
TZOFFSETTO:+0100
TZNAME:CET
DTSTART:20251026T010000
END:STANDARD
BEGIN:DAYLIGHT
TZOFFSETFROM:+0100
TZOFFSETTO:+0200
TZNAME:CEST
DTSTART:20260329T010000
END:DAYLIGHT
BEGIN:STANDARD
TZOFFSETFROM:+0200
TZOFFSETTO:+0100
TZNAME:CET
DTSTART:20261025T010000
END:STANDARD
BEGIN:DAYLIGHT
TZOFFSETFROM:+0100
TZOFFSETTO:+0200
TZNAME:CEST
DTSTART:20270328T010000
END:DAYLIGHT
BEGIN:STANDARD
TZOFFSETFROM:+0200
TZOFFSETTO:+0100
TZNAME:CET
DTSTART:20271031T010000
END:STANDARD
END:VTIMEZONE
BEGIN:VEVENT
DTSTART;VALUE=DATE:20260428
DTEND;VALUE=DATE:20260430
DTSTAMP:20260424T162012
CREATED:20251021T114857Z
LAST-MODIFIED:20251113T101059Z
UID:3226-1777334400-1777507199@www.julius-wegeler-schule.de
SUMMARY:Schriftliche Abschlussprüfung (Sommer) IHK-Berufe
DESCRIPTION:Wir wünschen allen Prüflingen ganz viel Erfolg!
URL:https://www.julius-wegeler-schule.de/event/schriftliche-abschlusspruefung-sommer-ihk-berufe/
CATEGORIES:Beatusstraße,Berufsschule,Finkenherd,Prüfungen
END:VEVENT
BEGIN:VEVENT
DTSTART;VALUE=DATE:20260429
DTEND;VALUE=DATE:20260430
DTSTAMP:20260424T162012
CREATED:20251021T114603Z
LAST-MODIFIED:20251021T114603Z
UID:3219-1777420800-1777507199@www.julius-wegeler-schule.de
SUMMARY:HBFEV24: 1. FbU-Prüfung 2025/26
DESCRIPTION:Wir wünschen allen Prüflingen ganz viel Erfolg!
URL:https://www.julius-wegeler-schule.de/event/hbfev24-1-fbu-pruefung-2025-26/
LOCATION:Beatusstraße
CATEGORIES:Beatusstraße,Höhere Berufsfachschule,Prüfungen
END:VEVENT
BEGIN:VEVENT
DTSTART;TZID=Europe/Berlin:20260429T080000
DTEND;TZID=Europe/Berlin:20260429T170000
DTSTAMP:20260424T162012
CREATED:20251021T084234Z
LAST-MODIFIED:20251021T084234Z
UID:3213-1777449600-1777482000@www.julius-wegeler-schule.de
SUMMARY:HBFS 24: Schriftliche Prüfung (BBU 2)
DESCRIPTION:Wir wünschen allen Prüflingen ganz viel Erfolg!
URL:https://www.julius-wegeler-schule.de/event/hbfs-24-schriftliche-pruefung-bbu-2/
LOCATION:Finkenherd
CATEGORIES:Finkenherd,Höhere Berufsfachschule,Prüfungen
END:VEVENT
END:VCALENDAR