BEGIN:VCALENDAR
VERSION:2.0
PRODID:-//Julius-Wegeler-Schule - ECPv6.15.20//NONSGML v1.0//EN
CALSCALE:GREGORIAN
METHOD:PUBLISH
X-WR-CALNAME:Julius-Wegeler-Schule
X-ORIGINAL-URL:https://www.julius-wegeler-schule.de
X-WR-CALDESC:Veranstaltungen für Julius-Wegeler-Schule
REFRESH-INTERVAL;VALUE=DURATION:PT1H
X-Robots-Tag:noindex
X-PUBLISHED-TTL:PT1H
BEGIN:VTIMEZONE
TZID:Europe/Berlin
BEGIN:DAYLIGHT
TZOFFSETFROM:+0100
TZOFFSETTO:+0200
TZNAME:CEST
DTSTART:20250330T010000
END:DAYLIGHT
BEGIN:STANDARD
TZOFFSETFROM:+0200
TZOFFSETTO:+0100
TZNAME:CET
DTSTART:20251026T010000
END:STANDARD
BEGIN:DAYLIGHT
TZOFFSETFROM:+0100
TZOFFSETTO:+0200
TZNAME:CEST
DTSTART:20260329T010000
END:DAYLIGHT
BEGIN:STANDARD
TZOFFSETFROM:+0200
TZOFFSETTO:+0100
TZNAME:CET
DTSTART:20261025T010000
END:STANDARD
BEGIN:DAYLIGHT
TZOFFSETFROM:+0100
TZOFFSETTO:+0200
TZNAME:CEST
DTSTART:20270328T010000
END:DAYLIGHT
BEGIN:STANDARD
TZOFFSETFROM:+0200
TZOFFSETTO:+0100
TZNAME:CET
DTSTART:20271031T010000
END:STANDARD
END:VTIMEZONE
BEGIN:VEVENT
DTSTART;VALUE=DATE:20260430
DTEND;VALUE=DATE:20260501
DTSTAMP:20260424T162734
CREATED:20251021T115318Z
LAST-MODIFIED:20251021T115318Z
UID:3241-1777507200-1777593599@www.julius-wegeler-schule.de
SUMMARY:Schriftliche Abiturprüfung 2025/26: E
DESCRIPTION:Wir wünschen allen Prüflingen ganz viel Erfolg!
URL:https://www.julius-wegeler-schule.de/event/schriftliche-abiturpruefung-2025-26-e/
CATEGORIES:Berufliches Gymnasium,Finkenherd,Prüfungen
END:VEVENT
BEGIN:VEVENT
DTSTART;TZID=Europe/Berlin:20260430T113000
DTEND;TZID=Europe/Berlin:20260430T130000
DTSTAMP:20260424T162734
CREATED:20260417T191848Z
LAST-MODIFIED:20260417T191848Z
UID:5000-1777548600-1777554000@www.julius-wegeler-schule.de
SUMMARY:Dreck-Weg-Tag auf dem Finkenherd am 30.4.2026
DESCRIPTION:Am Donnerstag\, 30.04.2026\, findet in der 5./6. Stunde unser alljährlicher „Dreck-Weg-Tag“ statt. Wir werden die Räume\, die Flure und das Umfeld der Schule vom Unrat befreien. Somit schaffen wir als Gemeinschaft wieder eine schöne Schule\, in der wir uns alle wohlfühlen können.
URL:https://www.julius-wegeler-schule.de/event/dreck-weg-tag-auf-dem-finkenherd-am-30-4-2026/
CATEGORIES:Berufliches Gymnasium,Berufsfachschule Pflege,Berufsschule,Fachschulen,Finkenherd
END:VEVENT
END:VCALENDAR