BEGIN:VCALENDAR
VERSION:2.0
PRODID:-//Julius-Wegeler-Schule - ECPv6.15.20//NONSGML v1.0//EN
CALSCALE:GREGORIAN
METHOD:PUBLISH
X-ORIGINAL-URL:https://www.julius-wegeler-schule.de
X-WR-CALDESC:Veranstaltungen für Julius-Wegeler-Schule
REFRESH-INTERVAL;VALUE=DURATION:PT1H
X-Robots-Tag:noindex
X-PUBLISHED-TTL:PT1H
BEGIN:VTIMEZONE
TZID:Europe/Berlin
BEGIN:DAYLIGHT
TZOFFSETFROM:+0100
TZOFFSETTO:+0200
TZNAME:CEST
DTSTART:20250330T010000
END:DAYLIGHT
BEGIN:STANDARD
TZOFFSETFROM:+0200
TZOFFSETTO:+0100
TZNAME:CET
DTSTART:20251026T010000
END:STANDARD
BEGIN:DAYLIGHT
TZOFFSETFROM:+0100
TZOFFSETTO:+0200
TZNAME:CEST
DTSTART:20260329T010000
END:DAYLIGHT
BEGIN:STANDARD
TZOFFSETFROM:+0200
TZOFFSETTO:+0100
TZNAME:CET
DTSTART:20261025T010000
END:STANDARD
BEGIN:DAYLIGHT
TZOFFSETFROM:+0100
TZOFFSETTO:+0200
TZNAME:CEST
DTSTART:20270328T010000
END:DAYLIGHT
BEGIN:STANDARD
TZOFFSETFROM:+0200
TZOFFSETTO:+0100
TZNAME:CET
DTSTART:20271031T010000
END:STANDARD
END:VTIMEZONE
BEGIN:VEVENT
DTSTART;TZID=Europe/Berlin:20260424T090000
DTEND;TZID=Europe/Berlin:20260424T140000
DTSTAMP:20260424T175504
CREATED:20260408T102147Z
LAST-MODIFIED:20260408T102241Z
UID:4856-1777021200-1777039200@www.julius-wegeler-schule.de
SUMMARY:azubi- & studientage Bildungs- und Karrieremesse 24.04.2026
DESCRIPTION:Die azubi- & studientage Koblenz bietet den Schülern:innen\, deren Lehrer:innen und Eltern eine Informations-Plattform\, um im persönlichen Gespräch Ausbildungs- und Bildungsangebote sowie Entwicklungsperspektiven von verschiedensten Unternehmen\, privaten und staatlichen Berufs- und Hochschulen\, Kammern\, Behörden und Institutionen kennenzulernen und sich ein Bild über die potenziellen zukünftigen Arbeitgeber zu machen!
URL:https://www.julius-wegeler-schule.de/event/azubi-studientage-bildungs-und-karrieremesse-24-04-2026/
LOCATION:EPG-Arena\, Jupp-Gauchel-Straße 10\, Koblenz\, Rheinland-Pfalz\, 56075
CATEGORIES:Berufsorientierung,Externe Veranstaltungen
END:VEVENT
BEGIN:VEVENT
DTSTART;VALUE=DATE:20260423
DTEND;VALUE=DATE:20260424
DTSTAMP:20260424T175504
CREATED:20260306T204527Z
LAST-MODIFIED:20260306T204527Z
UID:4646-1776902400-1776988799@www.julius-wegeler-schule.de
SUMMARY:BGY-Berufsorientierungstage und Info-Veranstaltung Vocatium 23.04.2026
DESCRIPTION:In diesem Jahr werden die 45-minütigen Infoveranstaltungen zur Messe Vocatium 2026 für die Schülerinnen und Schüler der Klassen BGY25 mit den Berufsorientierungstagen (vierstündig) kombiniert. Für die Fachmesse für Ausbildung und Studium Vocatium im September müssen die Schülerinnen und Schüler mindestens zwei Termine buchen. \nHeute sind die Klassen BGY T25c und BGY GS25c an der Reihe.
URL:https://www.julius-wegeler-schule.de/event/bgy-berufsorientierungstage-und-info-veranstaltung-vocatium-23-04-2026/
CATEGORIES:Berufliches Gymnasium,Berufsorientierung,Finkenherd
END:VEVENT
BEGIN:VEVENT
DTSTART;VALUE=DATE:20260422
DTEND;VALUE=DATE:20260424
DTSTAMP:20260424T175504
CREATED:20251021T084012Z
LAST-MODIFIED:20251021T084012Z
UID:3208-1776816000-1776988799@www.julius-wegeler-schule.de
SUMMARY:Praktische Prüfung Assistent/in HBFEV
DESCRIPTION:Wir wünschen allen Prüflingen ganz viel Erfolg!
URL:https://www.julius-wegeler-schule.de/event/praktische-pruefung-assistent-in-hbfev/
LOCATION:Beatusstraße
CATEGORIES:Beatusstraße,Höhere Berufsfachschule,Prüfungen
END:VEVENT
BEGIN:VEVENT
DTSTART;VALUE=DATE:20260422
DTEND;VALUE=DATE:20260423
DTSTAMP:20260424T175504
CREATED:20251021T115129Z
LAST-MODIFIED:20251021T115129Z
UID:3230-1776816000-1776902399@www.julius-wegeler-schule.de
SUMMARY:Schriftliche Abiturprüfung 2025/26: BIO\, IV
DESCRIPTION:Wir wünschen allen Prüflingen ganz viel Erfolg!
URL:https://www.julius-wegeler-schule.de/event/schriftliche-abiturpruefung-2025-26-bio-iv/
CATEGORIES:Berufliches Gymnasium,Finkenherd,Prüfungen
END:VEVENT
BEGIN:VEVENT
DTSTART;TZID=Europe/Berlin:20260421T170000
DTEND;TZID=Europe/Berlin:20260421T183000
DTSTAMP:20260424T175504
CREATED:20251021T083904Z
LAST-MODIFIED:20251021T083912Z
UID:3205-1776790800-1776796200@www.julius-wegeler-schule.de
SUMMARY:Infoabend für neue SuS BOS 2025/26
DESCRIPTION:Beim Infoabend für die neuen Schülerinnen und Schüler der BOS finden spannende Vorträge und Gespräche durch die Fachlehrkräfte statt. Hier werdet ihr alle Fragen los! Kommt vorbei!
URL:https://www.julius-wegeler-schule.de/event/infoabend-fuer-neue-sus-bos-2025-26/
LOCATION:Alte Mensa Beatusstraße
CATEGORIES:Beatusstraße,Berufsoberschule,Infoabend
END:VEVENT
BEGIN:VEVENT
DTSTART;VALUE=DATE:20260421
DTEND;VALUE=DATE:20260422
DTSTAMP:20260424T175504
CREATED:20260306T204401Z
LAST-MODIFIED:20260306T204401Z
UID:4643-1776729600-1776815999@www.julius-wegeler-schule.de
SUMMARY:BGY-Berufsorientierungstage und Info-Veranstaltung Vocatium 21.04.2026
DESCRIPTION:In diesem Jahr werden die 45-minütigen Infoveranstaltungen zur Messe Vocatium 2026 für die Schülerinnen und Schüler der Klassen BGY25 mit den Berufsorientierungstagen (vierstündig) kombiniert. Für die Fachmesse für Ausbildung und Studium Vocatium im September müssen die Schülerinnen und Schüler mindestens zwei Termine buchen. \nHeute sind die Klassen BGY GS25a und BGY GS25b an der Reihe.
URL:https://www.julius-wegeler-schule.de/event/bgy-berufsorientierungstage-und-info-veranstaltung-vocatium-21-04-2026/
CATEGORIES:Berufliches Gymnasium,Berufsorientierung,Finkenherd
END:VEVENT
BEGIN:VEVENT
DTSTART;VALUE=DATE:20260420
DTEND;VALUE=DATE:20260423
DTSTAMP:20260424T175504
CREATED:20251021T083234Z
LAST-MODIFIED:20251021T083234Z
UID:3201-1776643200-1776902399@www.julius-wegeler-schule.de
SUMMARY:HBFS 24: Praktische Prüfung 2025/26
DESCRIPTION:Wir wünschen allen Prüflingen ganz viel Erfolg!
URL:https://www.julius-wegeler-schule.de/event/hbfs-24-praktische-pruefung-2025-26/
LOCATION:Finkenherd
CATEGORIES:Finkenherd,Höhere Berufsfachschule,Prüfungen
END:VEVENT
BEGIN:VEVENT
DTSTART;VALUE=DATE:20260420
DTEND;VALUE=DATE:20260421
DTSTAMP:20260424T175504
CREATED:20251021T115037Z
LAST-MODIFIED:20251021T115037Z
UID:3228-1776643200-1776729599@www.julius-wegeler-schule.de
SUMMARY:Schriftliche Abiturprüfung 2025/26: PÄD\, TG\, TU\, TB
DESCRIPTION:Wir wünschen allen Prüflingen ganz viel Erfolg!
URL:https://www.julius-wegeler-schule.de/event/schriftliche-abiturpruefung-2025-26-paed-tg-tu-tb/
CATEGORIES:Berufliches Gymnasium,Finkenherd,Prüfungen
END:VEVENT
BEGIN:VEVENT
DTSTART;TZID=Europe/Berlin:20260418T080000
DTEND;TZID=Europe/Berlin:20260418T150000
DTSTAMP:20260424T175504
CREATED:20260408T063555Z
LAST-MODIFIED:20260408T063849Z
UID:4779-1776499200-1776524400@www.julius-wegeler-schule.de
SUMMARY:Kinder-College 18.04.2026 (Externe Veranstaltung)
DESCRIPTION:Wir begrüßen das Kinder-College an unserem Standort-Finkenherd. Es handelt sich dabei um eine externe Veranstaltung.
URL:https://www.julius-wegeler-schule.de/event/kinder-college-18-04-2026-externe-veranstaltung/
CATEGORIES:Externe Veranstaltungen,Finkenherd
END:VEVENT
BEGIN:VEVENT
DTSTART;VALUE=DATE:20260417
DTEND;VALUE=DATE:20260418
DTSTAMP:20260424T175504
CREATED:20260306T160117Z
LAST-MODIFIED:20260312T121223Z
UID:4631-1776384000-1776470399@www.julius-wegeler-schule.de
SUMMARY:BGY-Drogenpräventionsveranstaltung 17.04.2026
DESCRIPTION:In Zusammenarbeit mit unserer Schulsozialarbeit konnten wir die Polizei Koblenz für eine Drogenpräventionsveranstaltung in den Klassen BGY25 gewinnen. Die Veranstaltungen finden jeweils freitags im Hochgestühl statt und dauern 3 Schulstunden. Die Fachlehrerinnen und -lehrer begleiten die Klassen.  \nHeute findet die Veranstaltung für die Klassen BGY T25 a&b (3. – 5. Stunde) und BGY T25 c&d (6. – 8. Stunde) statt.
URL:https://www.julius-wegeler-schule.de/event/bgy-drogenpraeventionsveranstaltung-17-04-2026/
CATEGORIES:Berufliches Gymnasium,Finkenherd
END:VEVENT
BEGIN:VEVENT
DTSTART;VALUE=DATE:20260416
DTEND;VALUE=DATE:20260417
DTSTAMP:20260424T175504
CREATED:20260306T204226Z
LAST-MODIFIED:20260306T204226Z
UID:4640-1776297600-1776383999@www.julius-wegeler-schule.de
SUMMARY:BGY-Berufsorientierungstage und Info-Veranstaltung Vocatium 16.04.2026
DESCRIPTION:In diesem Jahr werden die 45-minütigen Infoveranstaltungen zur Messe Vocatium 2026 für die Schülerinnen und Schüler der Klassen BGY25 mit den Berufsorientierungstagen (vierstündig) kombiniert. Für die Fachmesse für Ausbildung und Studium Vocatium im September müssen die Schülerinnen und Schüler mindestens zwei Termine buchen. \nHeute ist die Klasse BGY GS25d an der Reihe.
URL:https://www.julius-wegeler-schule.de/event/bgy-berufsorientierungstage-und-info-veranstaltung-vocatium-16-04-2026/
CATEGORIES:Berufliches Gymnasium,Berufsorientierung,Finkenherd
END:VEVENT
BEGIN:VEVENT
DTSTART;VALUE=DATE:20260416
DTEND;VALUE=DATE:20260417
DTSTAMP:20260424T175504
CREATED:20251110T160541Z
LAST-MODIFIED:20260407T102231Z
UID:3877-1776297600-1776383999@www.julius-wegeler-schule.de
SUMMARY:SV-Charity-Projekttag 2026
DESCRIPTION:Die SV plant einen großen Charity-Projekttag mit vielseitigen Aktionen.\nWeitere Infos gibt es auf der Seite der SV:\nhttps://www.julius-wegeler-schule.de/ueber-uns/unsere-sv/
URL:https://www.julius-wegeler-schule.de/event/sv-charity-projekttag-2026/
CATEGORIES:Beatusstraße,Finkenherd,Schülervertretung
END:VEVENT
BEGIN:VEVENT
DTSTART;TZID=Europe/Berlin:20260414T133000
DTEND;TZID=Europe/Berlin:20260414T164500
DTSTAMP:20260424T175504
CREATED:20251021T055723Z
LAST-MODIFIED:20251113T094831Z
UID:3135-1776173400-1776185100@www.julius-wegeler-schule.de
SUMMARY:Vierter offizieller Teamtag im SJ 2025/26
DESCRIPTION:An Teamtagen treffen sich die Lehrpersonen in unterschiedlichen Teams (Fach-Teams\, Bildungsgang-Teams …)\, um den Unterricht und weitere Aktivitäten zu planen. Der Unterricht für teilnehmende Lehrpersonen endet um 13:00 Uhr.
URL:https://www.julius-wegeler-schule.de/event/vierter-offizieller-teamtag-im-sj-2025-26/
CATEGORIES:Beatusstraße,Finkenherd,Konferenzen
END:VEVENT
BEGIN:VEVENT
DTSTART;VALUE=DATE:20260414
DTEND;VALUE=DATE:20260415
DTSTAMP:20260424T175504
CREATED:20260306T204116Z
LAST-MODIFIED:20260306T204116Z
UID:4637-1776124800-1776211199@www.julius-wegeler-schule.de
SUMMARY:BGY-Berufsorientierungstage und Info-Veranstaltung Vocatium 14.04.2026
DESCRIPTION:In diesem Jahr werden die 45-minütigen Infoveranstaltungen zur Messe Vocatium 2026 für die Schülerinnen und Schüler der Klassen BGY25 mit den Berufsorientierungstagen (vierstündig) kombiniert. Für die Fachmesse für Ausbildung und Studium Vocatium im September müssen die Schülerinnen und Schüler mindestens zwei Termine buchen. \nHeute sind die Klassen BGY T25a\, BGY T25b und BGY T25d an der Reihe.
URL:https://www.julius-wegeler-schule.de/event/bgy-berufsorientierungstage-und-info-veranstaltung-vocatium-14-04-2026/
CATEGORIES:Berufliches Gymnasium,Berufsorientierung,Finkenherd
END:VEVENT
BEGIN:VEVENT
DTSTART;VALUE=DATE:20260330
DTEND;VALUE=DATE:20260411
DTSTAMP:20260424T175504
CREATED:20251020T153519Z
LAST-MODIFIED:20260326T042636Z
UID:3085-1774828800-1775865599@www.julius-wegeler-schule.de
SUMMARY:Osterferien 2026
DESCRIPTION:Wir wünschen schöne Osterferien 2026! Die Sekretariate haben montags bis freitags von 10 Uhr bis 12 Uhr geöffnet.
URL:https://www.julius-wegeler-schule.de/event/osterferien-2026/
CATEGORIES:Beatusstraße,Ferien,Finkenherd
END:VEVENT
BEGIN:VEVENT
DTSTART;TZID=Europe/Berlin:20260327T130000
DTEND;TZID=Europe/Berlin:20260327T133000
DTSTAMP:20260424T175504
CREATED:20251021T065357Z
LAST-MODIFIED:20251113T095544Z
UID:3166-1774616400-1774618200@www.julius-wegeler-schule.de
SUMMARY:Get together "Happy Easter" 2025/26
DESCRIPTION:Durch unser „Get together“ kommen Kolleginnen und Kollegen beider Standorte zusammen\, um in entspannter Atmosphäre und gutem Essen und Trinken auszutauschen. Vielen Dank an die Teams „School Marketing“ und „feelgood@school“ für die Organisation!
URL:https://www.julius-wegeler-schule.de/event/get-together-happy-easter-2025-26/
LOCATION:Finkenherd
CATEGORIES:Beatusstraße,feelgood@school,Finkenherd
END:VEVENT
BEGIN:VEVENT
DTSTART;VALUE=DATE:20260324
DTEND;VALUE=DATE:20260325
DTSTAMP:20260424T175504
CREATED:20260319T124843Z
LAST-MODIFIED:20260319T154545Z
UID:4734-1774310400-1774396799@www.julius-wegeler-schule.de
SUMMARY:SchiLF-Tag 2026 Schutzkonzept
DESCRIPTION:Am Dienstag\, den 24.03.2026 findet unser schulinterner Fortbildungstag zum Thema „Schutzkonzept – Prävention gegen sexualisierte Gewalt“ statt. Hier bildet sich das Kollegium durch Expertinnen und Experten in unterschiedlichen Workshops zu diesem Thema fort. \nDie Schülerinnen und Schüler haben an diesem Tag keinen Unterricht.
URL:https://www.julius-wegeler-schule.de/event/schilf-tag-2026-schutzkonzept/
CATEGORIES:Beatusstraße,Finkenherd
END:VEVENT
BEGIN:VEVENT
DTSTART;VALUE=DATE:20260323
DTEND;VALUE=DATE:20260324
DTSTAMP:20260424T175504
CREATED:20251021T082804Z
LAST-MODIFIED:20251021T083024Z
UID:3197-1774224000-1774310399@www.julius-wegeler-schule.de
SUMMARY:ALF LM 5 und LM 6 2025/26
DESCRIPTION:Prüfung für FSSOF 24+. Wir wünschen allen Prüflingen ganz viel Erfolg!
URL:https://www.julius-wegeler-schule.de/event/alf-lm-5-und-lm-6-2025-26/
LOCATION:Finkenherd
CATEGORIES:Fachschulen,Finkenherd,Prüfungen
END:VEVENT
BEGIN:VEVENT
DTSTART;VALUE=DATE:20260304
DTEND;VALUE=DATE:20260305
DTSTAMP:20260424T175504
CREATED:20251021T080226Z
LAST-MODIFIED:20251021T080226Z
UID:3193-1772582400-1772668799@www.julius-wegeler-schule.de
SUMMARY:Zweiter Homeschooling-Tag im SJ 2025/26
DESCRIPTION:Beim Homeschooling-Tag üben wir das Homeschooling\, um die passenden Kompetenzen für den Notfall zu erwerben.
URL:https://www.julius-wegeler-schule.de/event/zweiter-homeschooling-tag-im-sj-2025-26/
CATEGORIES:Beatusstraße,Finkenherd
END:VEVENT
BEGIN:VEVENT
DTSTART;VALUE=DATE:20260223
DTEND;VALUE=DATE:20260314
DTSTAMP:20260424T175504
CREATED:20260306T205642Z
LAST-MODIFIED:20260306T205642Z
UID:4653-1771804800-1773446399@www.julius-wegeler-schule.de
SUMMARY:BVJ-Praktikum 2. Halbjahr 2025-26
DESCRIPTION:Die Schülerinnen und Schüler im Berufsvorbereitungsjahr absolvieren insgesamt 6 Wochen lang ein Betriebspraktikum\, um verschiedene Berufe und den Arbeitsalltag kennenzulernen. Außerdem können sie ihre Talente zeigen und so die Chance auf eine Ausbildung erhöhen.
URL:https://www.julius-wegeler-schule.de/event/bvj-praktikum-2-halbjahr-2025-26/
CATEGORIES:Beatusstraße,Berufsorientierung,Berufsvorbereitungsjahr
END:VEVENT
BEGIN:VEVENT
DTSTART;TZID=Europe/Berlin:20260219T080000
DTEND;TZID=Europe/Berlin:20260219T130000
DTSTAMP:20260424T175504
CREATED:20251021T080030Z
LAST-MODIFIED:20251112T131514Z
UID:3191-1771488000-1771506000@www.julius-wegeler-schule.de
SUMMARY:Resilienztag "JWS macht stark"
DESCRIPTION:An unserem Resilienztag „JWS macht stark“ geben wir den Schülerinnen und Schülern die Möglichkeit\, sich in zwei Workshops bei Expertinnen und Experten fortzubilden und so wichtige Resilienzkompetenzen zu erwerben.
URL:https://www.julius-wegeler-schule.de/event/resilienztag-jws-macht-stark/
LOCATION:Beatusstraße
CATEGORIES:Beatusstraße,feelgood@school
END:VEVENT
BEGIN:VEVENT
DTSTART;VALUE=DATE:20260217
DTEND;VALUE=DATE:20260218
DTSTAMP:20260424T175504
CREATED:20251020T155443Z
LAST-MODIFIED:20251113T095231Z
UID:3101-1771286400-1771372799@www.julius-wegeler-schule.de
SUMMARY:Veilchendienstag 2026
DESCRIPTION:Beweglicher Ferientag: Wir wünschen schöne Karnevalstage!
URL:https://www.julius-wegeler-schule.de/event/veilchendienstag/
CATEGORIES:Beatusstraße,bewegliche Ferientage,Finkenherd
END:VEVENT
BEGIN:VEVENT
DTSTART;VALUE=DATE:20260216
DTEND;VALUE=DATE:20260217
DTSTAMP:20260424T175504
CREATED:20251020T155406Z
LAST-MODIFIED:20251113T095222Z
UID:3099-1771200000-1771286399@www.julius-wegeler-schule.de
SUMMARY:Rosenmontag 2026
DESCRIPTION:Beweglicher Ferientag: Wir wünschen schöne Karnevalstage!
URL:https://www.julius-wegeler-schule.de/event/rosenmontag/
CATEGORIES:Beatusstraße,bewegliche Ferientage,Finkenherd
END:VEVENT
BEGIN:VEVENT
DTSTART;VALUE=DATE:20260213
DTEND;VALUE=DATE:20260214
DTSTAMP:20260424T175504
CREATED:20251020T155321Z
LAST-MODIFIED:20251113T095210Z
UID:3097-1770940800-1771027199@www.julius-wegeler-schule.de
SUMMARY:Freitag nach Schwerdonnerstag 2026
DESCRIPTION:Beweglicher Ferientag: Wir wünschen schöne Karnevalstage!
URL:https://www.julius-wegeler-schule.de/event/freitag-nach-schwerdonnerstag/
CATEGORIES:Beatusstraße,bewegliche Ferientage,Finkenherd
END:VEVENT
BEGIN:VEVENT
DTSTART;VALUE=DATE:20260212
DTEND;VALUE=DATE:20260213
DTSTAMP:20260424T175504
CREATED:20251020T155157Z
LAST-MODIFIED:20251113T095201Z
UID:3094-1770854400-1770940799@www.julius-wegeler-schule.de
SUMMARY:Schwerdonnerstag 2026
DESCRIPTION:Beweglicher Ferientag: Wir wünschen schöne Karnevalstage!
URL:https://www.julius-wegeler-schule.de/event/schwerdonnerstag/
CATEGORIES:Beatusstraße,bewegliche Ferientage,Finkenherd
END:VEVENT
BEGIN:VEVENT
DTSTART;TZID=Europe/Berlin:20260211T150000
DTEND;TZID=Europe/Berlin:20260211T190000
DTSTAMP:20260424T175504
CREATED:20251021T075516Z
LAST-MODIFIED:20251021T075516Z
UID:3187-1770822000-1770836400@www.julius-wegeler-schule.de
SUMMARY:Sprech- und Beratungsnachmittag BS 2025/26
DESCRIPTION:An unseren Sprech- und Beratungsnachmittagen für alle Schülerinnen und Schüler\, Sorgeberechtigte und Ausbildende kommen wir in den Austausch und beraten euch.
URL:https://www.julius-wegeler-schule.de/event/sprech-und-beratungsnachmittag-bs-2025-26/
LOCATION:Beatusstraße
CATEGORIES:Beatusstraße
END:VEVENT
BEGIN:VEVENT
DTSTART;TZID=Europe/Berlin:20260210T140000
DTEND;TZID=Europe/Berlin:20260210T170000
DTSTAMP:20260424T175504
CREATED:20251021T075835Z
LAST-MODIFIED:20260202T141105Z
UID:3189-1770732000-1770742800@www.julius-wegeler-schule.de
SUMMARY:Schnuppernachmittag BGY Umwelttechnik 2025/26
DESCRIPTION:An unseren Schnuppernachmittagen können interessierte den Unterricht im gewünschten Bildungsgang/Schwerpunkt erleben\, um eine bessere Entscheidung treffen zu können. \nAnmeldungen über Jens.Brandenburg@julius-wegeler-schule.de
URL:https://www.julius-wegeler-schule.de/event/schnuppernachmittag-bgy-umwelttechnik-2025-26/
LOCATION:Finkenherd
CATEGORIES:Berufliches Gymnasium,Finkenherd
END:VEVENT
BEGIN:VEVENT
DTSTART;TZID=Europe/Berlin:20260209T150000
DTEND;TZID=Europe/Berlin:20260209T190000
DTSTAMP:20260424T175504
CREATED:20251021T075421Z
LAST-MODIFIED:20251113T095138Z
UID:3185-1770649200-1770663600@www.julius-wegeler-schule.de
SUMMARY:Sprech- und Beratungsnachmittag FH 2025/26
DESCRIPTION:An unseren Sprech- und Beratungsnachmittagen für alle Schülerinnen und Schüler\, Sorgeberechtigte und Ausbildende kommen wir in den Austausch und beraten euch.
URL:https://www.julius-wegeler-schule.de/event/sprech-und-beratungsnachmittag-fh-2025-26/
LOCATION:Finkenherd
CATEGORIES:Finkenherd
END:VEVENT
BEGIN:VEVENT
DTSTART;TZID=Europe/Berlin:20260203T180000
DTEND;TZID=Europe/Berlin:20260203T200000
DTSTAMP:20260424T175504
CREATED:20251021T075106Z
LAST-MODIFIED:20260115T121851Z
UID:3183-1770141600-1770148800@www.julius-wegeler-schule.de
SUMMARY:Infoabend des Beruflichen Gymnasiums 2025/26
DESCRIPTION:Am Dienstag\, den 3. Februar 2026 findet ab 18.00 Uhr in der Außenstelle der Julius-Wegeler-Schule\, Finkenherd 4\, Koblenz-Karthause ein Informationsabend über die Bildungswege des Beruflichen Gymnasiums statt. Angesprochen werden Schülerinnen\nund Schüler\, die den qualifizierten Sekundarabschluss I erlangen werden\, die allgemeine Hochschulreife erwerben möchten und einen berufsbezogenen Unterricht bevorzugen. Es werden an diesem Abend die Bildungsgänge Gesundheit und Soziales sowie Technik mit dem Schwerpunkten Biologietechnik\, Gestaltungs- und Medientechnik und Umwelttechnik vorgestellt. Um 18.00 Uhr\, 18.45 Uhr und 19.15 Uhr wird eine allgemeine Information zum Beruflichen Gymnasium an der Julius-Wegeler-Schule und den Anmeldemodalitäten angeboten. Parallel finden zu diesen Uhrzeiten passende Workshops zu den vier Bildungsgängen statt. In kleineren Gruppen können sich die Interessenten an diesem Abend bei den entsprechenden Fachlehrerinnen und -lehrern über Inhalte und das Profil der Schule informieren. Zusätzlich präsentieren sich die Sprachen Französisch/Italienisch/Spanisch\, der Leistungskurs Sport\, die schulische Resilienzförderung und die europäischen Kooperations-/Austauschprogramme im Rahmen von Erasmus+. Schülerinnen und Schüler des Beruflichen Gymnasiums bieten in diesem Zeitraum für Interessierte Führungen durch die Fachräume an und stehen zum Gespräch zur Verfügung. Anmeldeschluss ist der 1. März 2026.
URL:https://www.julius-wegeler-schule.de/event/infoabend-der-berufliches-gymnasium-2025-26/
LOCATION:Finkenherd
CATEGORIES:Berufliches Gymnasium,Finkenherd,Infoabend
END:VEVENT
BEGIN:VEVENT
DTSTART;TZID=Europe/Berlin:20260202T133000
DTEND;TZID=Europe/Berlin:20260202T164500
DTSTAMP:20260424T175504
CREATED:20251021T055118Z
LAST-MODIFIED:20251113T094823Z
UID:3131-1770039000-1770050700@www.julius-wegeler-schule.de
SUMMARY:Dritter offizieller Teamtag im SJ 2025/26
DESCRIPTION:An Teamtagen treffen sich die Lehrpersonen in unterschiedlichen Teams (Fach-Teams\, Bildungsgang-Teams …)\, um den Unterricht und weitere Aktivitäten zu planen. Der Unterricht für teilnehmende Lehrpersonen endet um 13:00 Uhr.
URL:https://www.julius-wegeler-schule.de/event/dritter-offizieller-teamtag-im-sj-2025-26/
CATEGORIES:Beatusstraße,Finkenherd,Konferenzen
END:VEVENT
END:VCALENDAR