BEGIN:VCALENDAR
VERSION:2.0
PRODID:-//Julius-Wegeler-Schule - ECPv6.15.20//NONSGML v1.0//EN
CALSCALE:GREGORIAN
METHOD:PUBLISH
X-ORIGINAL-URL:https://www.julius-wegeler-schule.de
X-WR-CALDESC:Veranstaltungen für Julius-Wegeler-Schule
REFRESH-INTERVAL;VALUE=DURATION:PT1H
X-Robots-Tag:noindex
X-PUBLISHED-TTL:PT1H
BEGIN:VTIMEZONE
TZID:Europe/Berlin
BEGIN:DAYLIGHT
TZOFFSETFROM:+0100
TZOFFSETTO:+0200
TZNAME:CEST
DTSTART:20240331T010000
END:DAYLIGHT
BEGIN:STANDARD
TZOFFSETFROM:+0200
TZOFFSETTO:+0100
TZNAME:CET
DTSTART:20241027T010000
END:STANDARD
BEGIN:DAYLIGHT
TZOFFSETFROM:+0100
TZOFFSETTO:+0200
TZNAME:CEST
DTSTART:20250330T010000
END:DAYLIGHT
BEGIN:STANDARD
TZOFFSETFROM:+0200
TZOFFSETTO:+0100
TZNAME:CET
DTSTART:20251026T010000
END:STANDARD
BEGIN:DAYLIGHT
TZOFFSETFROM:+0100
TZOFFSETTO:+0200
TZNAME:CEST
DTSTART:20260329T010000
END:DAYLIGHT
BEGIN:STANDARD
TZOFFSETFROM:+0200
TZOFFSETTO:+0100
TZNAME:CET
DTSTART:20261025T010000
END:STANDARD
BEGIN:DAYLIGHT
TZOFFSETFROM:+0100
TZOFFSETTO:+0200
TZNAME:CEST
DTSTART:20270328T010000
END:DAYLIGHT
BEGIN:STANDARD
TZOFFSETFROM:+0200
TZOFFSETTO:+0100
TZNAME:CET
DTSTART:20271031T010000
END:STANDARD
END:VTIMEZONE
BEGIN:VEVENT
DTSTART;VALUE=DATE:20251117
DTEND;VALUE=DATE:20251206
DTSTAMP:20260424T222617
CREATED:20260306T205512Z
LAST-MODIFIED:20260306T205512Z
UID:4650-1763337600-1764979199@www.julius-wegeler-schule.de
SUMMARY:BVJ-Praktikum 1. Halbjahr 2025-26
DESCRIPTION:Die Schülerinnen und Schüler im Berufsvorbereitungsjahr absolvieren insgesamt 6 Wochen lang ein Betriebspraktikum\, um verschiedene Berufe und den Arbeitsalltag kennenzulernen. Außerdem können sie ihre Talente zeigen und so die Chance auf eine Ausbildung erhöhen.
URL:https://www.julius-wegeler-schule.de/event/bvj-praktikum-1-halbjahr-2025-26/
CATEGORIES:Beatusstraße,Berufsorientierung,Berufsvorbereitungsjahr
END:VEVENT
BEGIN:VEVENT
DTSTART;TZID=Europe/Berlin:20251209T150000
DTEND;TZID=Europe/Berlin:20251209T180000
DTSTAMP:20260424T222617
CREATED:20251021T063245Z
LAST-MODIFIED:20251113T095012Z
UID:3153-1765292400-1765303200@www.julius-wegeler-schule.de
SUMMARY:Weihnachtsfeier 2025/26
DESCRIPTION:Wir freuen uns auf ein schönes Zusammensein bei der alljährlichen Weihnachtsfeier! Vielen Dank an den ÖPR für die Organisation!
URL:https://www.julius-wegeler-schule.de/event/weihnachtsfeier-2025-26/
CATEGORIES:Beatusstraße,Finkenherd,ÖPR
END:VEVENT
BEGIN:VEVENT
DTSTART;VALUE=DATE:20251216
DTEND;VALUE=DATE:20251217
DTSTAMP:20260424T222617
CREATED:20251113T102832Z
LAST-MODIFIED:20251113T102920Z
UID:4065-1765843200-1765929599@www.julius-wegeler-schule.de
SUMMARY:Zeugniskonferenzen BGY13 Erstes Halbjahr 2025/26
DESCRIPTION:An den Zeugniskonferenztagen beraten und entscheiden die Lehrpersonen über die Zeugnisnoten\, Abschlüsse und Versetzungen. Der Unterricht findet zum Teil statt (bitte WebUntis beachten).
URL:https://www.julius-wegeler-schule.de/event/zeugniskonferenzen-bgy13-erstes-halbjahr-2025-26/
CATEGORIES:Berufliches Gymnasium,Finkenherd,Konferenzen
END:VEVENT
BEGIN:VEVENT
DTSTART;TZID=Europe/Berlin:20251219T130000
DTEND;TZID=Europe/Berlin:20251219T133000
DTSTAMP:20260424T222617
CREATED:20251021T064727Z
LAST-MODIFIED:20251113T095022Z
UID:3155-1766149200-1766151000@www.julius-wegeler-schule.de
SUMMARY:Get together "Weihnachten" 2025/26
DESCRIPTION:Durch unser „Get together“ kommen Kolleginnen und Kollegen beider Standorte zusammen\, um in entspannter Atmosphäre und gutem Essen und Trinken auszutauschen. Vielen Dank an die Teams „School Marketing“ und „feelgood@school“ für die Organisation!
URL:https://www.julius-wegeler-schule.de/event/get-together-weihnachten-2025-26/
LOCATION:Finkenherd
CATEGORIES:Beatusstraße,feelgood@school,Finkenherd
END:VEVENT
BEGIN:VEVENT
DTSTART;VALUE=DATE:20251222
DTEND;VALUE=DATE:20260108
DTSTAMP:20260424T222617
CREATED:20251019T174313Z
LAST-MODIFIED:20251113T095032Z
UID:3078-1766361600-1767830399@www.julius-wegeler-schule.de
SUMMARY:Weihnachtsferien 2025
DESCRIPTION:Wir wünschen frohe Weihnachtsferien!
URL:https://www.julius-wegeler-schule.de/event/weihnachtsferien/
CATEGORIES:Beatusstraße,Ferien,Finkenherd
END:VEVENT
END:VCALENDAR